BEGIN:VCALENDAR
VERSION:2.0
PRODID:-//Illinois Collaboration On Youth - ECPv6.15.18//NONSGML v1.0//EN
CALSCALE:GREGORIAN
METHOD:PUBLISH
X-ORIGINAL-URL:https://www.icoyouth.org
X-WR-CALDESC:Events for Illinois Collaboration On Youth
REFRESH-INTERVAL;VALUE=DURATION:PT1H
X-Robots-Tag:noindex
X-PUBLISHED-TTL:PT1H
BEGIN:VTIMEZONE
TZID:America/Chicago
BEGIN:DAYLIGHT
TZOFFSETFROM:-0600
TZOFFSETTO:-0500
TZNAME:CDT
DTSTART:20250309T080000
END:DAYLIGHT
BEGIN:STANDARD
TZOFFSETFROM:-0500
TZOFFSETTO:-0600
TZNAME:CST
DTSTART:20251102T070000
END:STANDARD
BEGIN:DAYLIGHT
TZOFFSETFROM:-0600
TZOFFSETTO:-0500
TZNAME:CDT
DTSTART:20260308T080000
END:DAYLIGHT
BEGIN:STANDARD
TZOFFSETFROM:-0500
TZOFFSETTO:-0600
TZNAME:CST
DTSTART:20261101T070000
END:STANDARD
BEGIN:DAYLIGHT
TZOFFSETFROM:-0600
TZOFFSETTO:-0500
TZNAME:CDT
DTSTART:20270314T080000
END:DAYLIGHT
BEGIN:STANDARD
TZOFFSETFROM:-0500
TZOFFSETTO:-0600
TZNAME:CST
DTSTART:20271107T070000
END:STANDARD
END:VTIMEZONE
BEGIN:VEVENT
DTSTART;TZID=America/Chicago:20260609T090000
DTEND;TZID=America/Chicago:20260609T103000
DTSTAMP:20260421T074807
CREATED:20260309T212607Z
LAST-MODIFIED:20260311T182702Z
UID:10002232-1780995600-1781001000@www.icoyouth.org
SUMMARY:Building a Culture of Philanthropy to Meet Your Organization’s Needs for Expanded Revenue
DESCRIPTION:Sustaining and expanding the work of nonprofit organizations increasingly requires more than traditional fundraising activities. It calls for developing a true culture of philanthropy—one in which the entire organization understands its role in strengthening relationships with supporters and advancing the mission. This training will explore what it means to build and sustain a culture of philanthropy and how organizations can move beyond transactional fundraising toward deeper\, partnership-based relationships with donors. Participants will examine how staff\, leadership\, and board members can all contribute to donor outreach and engagement\, helping supporters feel more meaningfully connected to the organization’s work and impact. Through practical discussion and examples\, the session will offer insights into how organizations can cultivate stronger donor relationships while positioning themselves to meet growing revenue needs. \nOne and a Half Continuing Education Units (CEUs) will be available for participants with social work and professional counseling licenses (LSW\, LCSW\, LPC\, LCPC). If you would like to request CEUs\, you may do so in the evaluation survey sent after completing this training. For more information on ICOY’s training attendance policy please see here: https://www.icoyouth.org/attendance-policy/ \nTrainer: Paul Hamann
URL:https://www.icoyouth.org/event/building-a-culture-of-philanthropy-to-meet-your-organizations-needs-for-expanded-revenue/
LOCATION:https://icoyouth-org.zoom.us/meeting/register/fB51K8CERSmqAFLPu6Z9qA
END:VEVENT
BEGIN:VEVENT
DTSTART;TZID=America/Chicago:20260609T130000
DTEND;TZID=America/Chicago:20260609T150000
DTSTAMP:20260421T074807
CREATED:20260309T212606Z
LAST-MODIFIED:20260311T182736Z
UID:10002231-1781010000-1781017200@www.icoyouth.org
SUMMARY:Restorative Justice 101: Understanding the Relation-Based Discipline
DESCRIPTION:In this session\, we will create a baseline definition and understanding of what Restorative Justice is\, the various ways it can be employed\, and the power of change it incurs\, because it is rooted in relational awareness of self and community. \nTwo Continuing Education Units (CEUs) will be available for participants with social work and professional counseling licenses (LSW\, LCSW\, LPC\, LCPC). If you would like to request CEUs\, you may do so in the evaluation survey sent after completing this training. For more information on ICOY’s training attendance policy please see here: https://www.icoyouth.org/attendance-policy/ \nTrainer: Christian Simpson
URL:https://www.icoyouth.org/event/restorative-justice-101-understanding-the-relation-based-discipline-2/
LOCATION:https://icoyouth-org.zoom.us/meeting/register/S58qHc3-QxyxhQVPF8Jhlw
END:VEVENT
BEGIN:VEVENT
DTSTART;TZID=America/Chicago:20260610T093000
DTEND;TZID=America/Chicago:20260610T123000
DTSTAMP:20260421T074807
CREATED:20260309T212607Z
LAST-MODIFIED:20260311T182822Z
UID:10002233-1781083800-1781094600@www.icoyouth.org
SUMMARY:Grant Writing Workshop
DESCRIPTION:The sky is falling! The sky is falling!” No\, it isn’t. But there IS a reason why you need funding. We will discuss how to find and use comparative data to demonstrate the need for your grant request. You’ll learn strategies for presenting data and making a compelling case to support your funding request. \nThree Continuing Education Units (CEUs) will be available for participants with social work and professional counseling licenses (LSW\, LCSW\, LPC\, LCPC). If you would like to request CEUs\, you may do so in the evaluation survey sent after completing this training. For more information on ICOY’s training attendance policy please see here: https://www.icoyouth.org/attendance-policy/ \nTrainer: Kristin Olson
URL:https://www.icoyouth.org/event/grant-writing-workshop/
LOCATION:https://icoyouth-org.zoom.us/meeting/register/gfxrKl8pShSWAmpSGxWCYA
END:VEVENT
BEGIN:VEVENT
DTSTART;TZID=America/Chicago:20260611T100000
DTEND;TZID=America/Chicago:20260611T123000
DTSTAMP:20260421T074807
CREATED:20251024T190104Z
LAST-MODIFIED:20251217T181127Z
UID:10002115-1781172000-1781181000@www.icoyouth.org
SUMMARY:Community Youth Services (CYS) Management Meeting
DESCRIPTION:Please join us for the quarterly CYS Management Meeting. As a reminder\, this meeting is mandatory for each program with the purpose of increasing communication across programs and with the state. Please note: this meeting is only open to organizations that currently receive CYS funding from IDHS. \n 
URL:https://www.icoyouth.org/event/cys-management-meeting-9/
CATEGORIES:Community Youth Services (CYS)
LOCATION:
END:VEVENT
BEGIN:VEVENT
DTSTART;TZID=America/Chicago:20260612T110000
DTEND;TZID=America/Chicago:20260612T120000
DTSTAMP:20260421T074807
CREATED:20251209T222303Z
LAST-MODIFIED:20251209T222303Z
UID:10002182-1781262000-1781265600@www.icoyouth.org
SUMMARY:Child Welfare Coalition Call
DESCRIPTION:Join ICOY and other member organizations on a call to discuss key changes in the child welfare and youth-led arena.\nThe goal is to create a child welfare system that prepares youth to become successful and self-sufficient. Illinois Collaboration on Youth (ICOY) seeks to focus the attention of Illinois’ elected officials in all branches of government on the systematic challenges facing the Illinois Department of Children and Family Services (DCFS) and the private agencies that deliver many of the services within their communities. \nWe work continuously with lawmakers and other stakeholders to educate them about the impact of nearly two decades of neglect of this system\, and to advocate for the investments and reforms that are needed to fund and sustain the community-based providers of child welfare services. \nThese calls will take place twice a month and we are asking that all participants register to join.
URL:https://www.icoyouth.org/event/child-welfare-coalition-call-21/
CATEGORIES:ICOY Members
LOCATION:https://icoyouth-org.zoom.us/meeting/register/Yp_omhpyRjubXz0_6PtQ4A
END:VEVENT
BEGIN:VEVENT
DTSTART;TZID=America/Chicago:20260612T110000
DTEND;TZID=America/Chicago:20260612T123000
DTSTAMP:20260421T074807
CREATED:20260309T212612Z
LAST-MODIFIED:20260311T182844Z
UID:10002234-1781262000-1781267400@www.icoyouth.org
SUMMARY:Scale Up Your SEL: Define It
DESCRIPTION:Social Emotional Learning (SEL) is an integral part of youth development\, but what does “SEL” truly mean within the unique context of your program? In this workshop\, “Scale Up Your SEL: Define It\,” we will move through the core components of social emotional learning and collaboratively develop a clear\, shared understanding tailored to your specific site’s needs and goals. Using established frameworks\, such as the widely recognized CASEL 5 competencies participants will reflect on their current program’s unique environment\, population\, and existing practices to identify how SEL is already present and where there are opportunities for growth. This session is designed for all youth development providers\, from frontline staff to program leaders. Come ready to share insights\, engage in collaborative problem-solving\, and lay the groundwork for a robust\, site-specific SEL framework that empowers both your staff and the youth you serve. \nLearning Objectives:\n* Articulate the five core competencies of social emotional learning using a common framework.\n* Identify specific examples of SEL skills as they currently appear in their daily program activities.\n* Develop a preliminary action plan for establishing a common language and understanding of SEL among all site staff and stakeholders. \nTrainer: Naomi Oster
URL:https://www.icoyouth.org/event/scale-up-your-sel-define-it-2/
CATEGORIES:IDHS Capacity Building Training Topic
LOCATION:https://icoyouth-org.zoom.us/meeting/register/K2BzYsCkRAC1cJFdNORB7Q
END:VEVENT
END:VCALENDAR