BEGIN:VCALENDAR
VERSION:2.0
PRODID:-//Illinois Collaboration On Youth - ECPv6.15.18//NONSGML v1.0//EN
CALSCALE:GREGORIAN
METHOD:PUBLISH
X-ORIGINAL-URL:https://www.icoyouth.org
X-WR-CALDESC:Events for Illinois Collaboration On Youth
REFRESH-INTERVAL;VALUE=DURATION:PT1H
X-Robots-Tag:noindex
X-PUBLISHED-TTL:PT1H
BEGIN:VTIMEZONE
TZID:America/Chicago
BEGIN:DAYLIGHT
TZOFFSETFROM:-0600
TZOFFSETTO:-0500
TZNAME:CDT
DTSTART:20240310T080000
END:DAYLIGHT
BEGIN:STANDARD
TZOFFSETFROM:-0500
TZOFFSETTO:-0600
TZNAME:CST
DTSTART:20241103T070000
END:STANDARD
BEGIN:DAYLIGHT
TZOFFSETFROM:-0600
TZOFFSETTO:-0500
TZNAME:CDT
DTSTART:20250309T080000
END:DAYLIGHT
BEGIN:STANDARD
TZOFFSETFROM:-0500
TZOFFSETTO:-0600
TZNAME:CST
DTSTART:20251102T070000
END:STANDARD
BEGIN:DAYLIGHT
TZOFFSETFROM:-0600
TZOFFSETTO:-0500
TZNAME:CDT
DTSTART:20260308T080000
END:DAYLIGHT
BEGIN:STANDARD
TZOFFSETFROM:-0500
TZOFFSETTO:-0600
TZNAME:CST
DTSTART:20261101T070000
END:STANDARD
END:VTIMEZONE
BEGIN:VEVENT
DTSTART;TZID=America/Chicago:20251209T100000
DTEND;TZID=America/Chicago:20251209T123000
DTSTAMP:20260421T062916
CREATED:20250909T191410Z
LAST-MODIFIED:20250909T193109Z
UID:10002093-1765274400-1765283400@www.icoyouth.org
SUMMARY:Homeless Youth Management Meeting
DESCRIPTION:Please join us for the quarterly HY Management Meeting. As a reminder\, this meeting is mandatory for each program with the purpose of increasing communication across programs and with the state. Please note: this meeting is only open to organizations that currently receive HY funding from IDHS.
URL:https://www.icoyouth.org/event/homeless-youth-management-meeting-2/
LOCATION:https://icoyouth-org.zoom.us/meeting/register/4XPP25WWQ42ByY_bOvU6LQ
CATEGORIES:Homeless Youth,Management Meeting
END:VEVENT
BEGIN:VEVENT
DTSTART;TZID=America/Chicago:20250918T100000
DTEND;TZID=America/Chicago:20250918T123000
DTSTAMP:20260421T062917
CREATED:20250730T194222Z
LAST-MODIFIED:20250731T161037Z
UID:10002069-1758189600-1758198600@www.icoyouth.org
SUMMARY:IYIP Management Meeting
DESCRIPTION:Please join us for today’s management meeting for IYIP providers. As a reminder\, this meeting is virtual and is mandatory for each program with the purpose of increasing communication across programs and with the state.
URL:https://www.icoyouth.org/event/iyip-management-meeting/
LOCATION:https://icoyouth-org.zoom.us/meeting/register/ximLDc5WTvGLjmY3WNJucg
CATEGORIES:Management Meeting
END:VEVENT
BEGIN:VEVENT
DTSTART;TZID=America/Chicago:20250911T100000
DTEND;TZID=America/Chicago:20250911T123000
DTSTAMP:20260421T062917
CREATED:20250730T172652Z
LAST-MODIFIED:20250730T172652Z
UID:10002068-1757584800-1757593800@www.icoyouth.org
SUMMARY:IYIP-3473 Management Meeting
DESCRIPTION:Please join us for today’s management meeting for IYIP providers. As a reminder\, this meeting is quarterly and is mandatory for each program with the purpose of increasing communication across programs and with the state.
URL:https://www.icoyouth.org/event/iyip-3473-management-meeting/
LOCATION:https://icoyouth-org.zoom.us/meeting/register/U3bUFlIEThSf9LfGBpinPw
CATEGORIES:Management Meeting
END:VEVENT
BEGIN:VEVENT
DTSTART;TZID=America/Chicago:20250612T100000
DTEND;TZID=America/Chicago:20250612T150000
DTSTAMP:20260421T062917
CREATED:20250319T215137Z
LAST-MODIFIED:20250325T204519Z
UID:10001970-1749722400-1749740400@www.icoyouth.org
SUMMARY:CCBYS Management Meeting
DESCRIPTION:Please join us for today’s IN PERSON management meeting for CCBYS providers in FY25. As a reminder\, this meeting is mandatory for each program with the purpose of increasing communication across programs and with the state. \n  \nIllinois State University \nAlumni Center\, room AC116 \n1101 North Main Street \nNormal\, IL 61790
URL:https://www.icoyouth.org/event/ccbys-management-meeting-5/
LOCATION:Illinois State University Alumni Center\, 1101 N. Main Street\, Normal IL 61761\, Illinois State University Alumni Center\, 1101 N. Main Street\, Normal IL 61761\, Normal\, IL\, 61761\, United States
CATEGORIES:Comprehensive Community Based Youth Services (CCBYS),Management Meeting
END:VEVENT
BEGIN:VEVENT
DTSTART;TZID=America/Chicago:20250605T090000
DTEND;TZID=America/Chicago:20250605T150000
DTSTAMP:20260421T062917
CREATED:20250218T203723Z
LAST-MODIFIED:20250409T163402Z
UID:10001944-1749114000-1749135600@www.icoyouth.org
SUMMARY:IYIP Management Meeting
DESCRIPTION:Please join us for today’s management meeting for IYIP providers. As a reminder\, this meeting is in person and is mandatory for each program with the purpose of increasing communication across programs and with the state. No more than 2 people from each organization. \n 
URL:https://www.icoyouth.org/event/iyip-management-meeting-5/
LOCATION:Tinley Park Convention Center\, 18451 Convention Center Dr.\, Tinley Park\, IL\, 60477\, United States
CATEGORIES:Illinois Youth Investment Program (IYIP),Management Meeting
END:VEVENT
END:VCALENDAR