BEGIN:VCALENDAR
VERSION:2.0
PRODID:-//Illinois Collaboration On Youth - ECPv6.15.18//NONSGML v1.0//EN
CALSCALE:GREGORIAN
METHOD:PUBLISH
X-WR-CALNAME:Illinois Collaboration On Youth
X-ORIGINAL-URL:https://www.icoyouth.org
X-WR-CALDESC:Events for Illinois Collaboration On Youth
REFRESH-INTERVAL;VALUE=DURATION:PT1H
X-Robots-Tag:noindex
X-PUBLISHED-TTL:PT1H
BEGIN:VTIMEZONE
TZID:America/Chicago
BEGIN:DAYLIGHT
TZOFFSETFROM:-0600
TZOFFSETTO:-0500
TZNAME:CDT
DTSTART:20240310T080000
END:DAYLIGHT
BEGIN:STANDARD
TZOFFSETFROM:-0500
TZOFFSETTO:-0600
TZNAME:CST
DTSTART:20241103T070000
END:STANDARD
BEGIN:DAYLIGHT
TZOFFSETFROM:-0600
TZOFFSETTO:-0500
TZNAME:CDT
DTSTART:20250309T080000
END:DAYLIGHT
BEGIN:STANDARD
TZOFFSETFROM:-0500
TZOFFSETTO:-0600
TZNAME:CST
DTSTART:20251102T070000
END:STANDARD
BEGIN:DAYLIGHT
TZOFFSETFROM:-0600
TZOFFSETTO:-0500
TZNAME:CDT
DTSTART:20260308T080000
END:DAYLIGHT
BEGIN:STANDARD
TZOFFSETFROM:-0500
TZOFFSETTO:-0600
TZNAME:CST
DTSTART:20261101T070000
END:STANDARD
END:VTIMEZONE
BEGIN:VEVENT
DTSTART;TZID=America/Chicago:20250603T100000
DTEND;TZID=America/Chicago:20250603T120000
DTSTAMP:20260421T194826
CREATED:20250218T203722Z
LAST-MODIFIED:20250226T184704Z
UID:10001943-1748944800-1748952000@www.icoyouth.org
SUMMARY:Overview of eCornerstone
DESCRIPTION:This introductory training will provide participants with an overview of the eCornerstone system including specific data entry information for CCBYS\, Redeploy\, Teen REACH and Homeless Youth programs. Participants will walk through the process of logging in to eCornerstone and entering client data from enrollment to discharge. By the end of the training\, participants will be able to accurately enter client information and successfully utilize the software. \nTwo continuing education units (CEUs) will be available for participants with social work and professional counseling licenses (LSW\, LCSW\, LPC\, LCPC). If you would like to request CEUs\, you may do so in the evaluation survey sent after completing this training. For more information on ICOY’s training attendance policy please see here: https://www.icoyouth.org/attendance-policy/   \nTrainer: Sam Sorensen
URL:https://www.icoyouth.org/event/overview-of-ecornerstone-7/
CATEGORIES:IDHS Capacity Building Training Topic
LOCATION:https://icoyouth-org.zoom.us/meeting/register/p6LdG8ATTT6e3Vd6cWL6xg
END:VEVENT
BEGIN:VEVENT
DTSTART;TZID=America/Chicago:20250606T123000
DTEND;TZID=America/Chicago:20250606T153000
DTSTAMP:20260421T194826
CREATED:20250218T203723Z
LAST-MODIFIED:20250226T184556Z
UID:10001945-1749213000-1749223800@www.icoyouth.org
SUMMARY:Positive Youth Development
DESCRIPTION:Understanding Youth Development: Harnessing the Power to TransformIndividuals and Communities: History / Core Concepts / Practical Application \nThis module provides participants the opportunity to ground themselves within the history and theory that have led to positive youth\ndevelopment. Core principles and concepts of youth development as a model to create organizational and community change is offered in\ncontrast to traditional youth services model. Participants have the opportunity to explore practical applications of the model through small\ngroup work. \nThree continuing education units (CEUs) will be available for participants with social work and professional counseling licenses (LSW\, LCSW\, LPC\, LCPC). If you would like to request CEUs\, you may do so in the evaluation survey sent after completing this training. For more information on ICOY’s training attendance policy please see here: https://www.icoyouth.org/attendance-policy/   \nTrainers: LYTE Collective
URL:https://www.icoyouth.org/event/positive-youth-development-4/
CATEGORIES:IDHS Capacity Building Training Topic
LOCATION:https://icoyouth-org.zoom.us/meeting/register/dXJx_06JQM2c3RIHQ1GqIA
END:VEVENT
END:VCALENDAR