BEGIN:VCALENDAR
VERSION:2.0
PRODID:-//Illinois Collaboration On Youth - ECPv6.15.18//NONSGML v1.0//EN
CALSCALE:GREGORIAN
METHOD:PUBLISH
X-WR-CALNAME:Illinois Collaboration On Youth
X-ORIGINAL-URL:https://www.icoyouth.org
X-WR-CALDESC:Events for Illinois Collaboration On Youth
REFRESH-INTERVAL;VALUE=DURATION:PT1H
X-Robots-Tag:noindex
X-PUBLISHED-TTL:PT1H
BEGIN:VTIMEZONE
TZID:America/Chicago
BEGIN:DAYLIGHT
TZOFFSETFROM:-0600
TZOFFSETTO:-0500
TZNAME:CDT
DTSTART:20240310T080000
END:DAYLIGHT
BEGIN:STANDARD
TZOFFSETFROM:-0500
TZOFFSETTO:-0600
TZNAME:CST
DTSTART:20241103T070000
END:STANDARD
BEGIN:DAYLIGHT
TZOFFSETFROM:-0600
TZOFFSETTO:-0500
TZNAME:CDT
DTSTART:20250309T080000
END:DAYLIGHT
BEGIN:STANDARD
TZOFFSETFROM:-0500
TZOFFSETTO:-0600
TZNAME:CST
DTSTART:20251102T070000
END:STANDARD
BEGIN:DAYLIGHT
TZOFFSETFROM:-0600
TZOFFSETTO:-0500
TZNAME:CDT
DTSTART:20260308T080000
END:DAYLIGHT
BEGIN:STANDARD
TZOFFSETFROM:-0500
TZOFFSETTO:-0600
TZNAME:CST
DTSTART:20261101T070000
END:STANDARD
END:VTIMEZONE
BEGIN:VEVENT
DTSTART;TZID=America/Chicago:20250611T100000
DTEND;TZID=America/Chicago:20250611T130000
DTSTAMP:20260421T195609
CREATED:20250326T173045Z
LAST-MODIFIED:20250327T175109Z
UID:10001972-1749636000-1749646800@www.icoyouth.org
SUMMARY:Conflict Reconciliation
DESCRIPTION:This 3-hour training will aid its participants in developing tools to work through internal issues that create conflict. We will look at 4 Keys to developing an effective Conflict Reconciliation System. We will explore the importance of: \n-Internal Responsibility: Diminishing apathy and indifference and increasing passion and concern. \n-Embrace Reality: How to minimize frustration by fully embracing reality. \n-Reframing Rhetoric: How the words and phrases you use can shift your perspective \n-Re-writing Your Narrative: How fact coupled with fiction can be damaging \n  \nTrainer: Sylvester Baugh \n  \nThree continuing education units (CEUs) will be available for participants with social work and professional counseling licenses (LSW\, LCSW\, LPC\, LCPC). If you would like to request CEUs\, you may do so in the evaluation survey sent after completing this training. For more information on ICOY’s training attendance policy please see here: https://www.icoyouth.org/attendance-policy/  
URL:https://www.icoyouth.org/event/conflict-reconciliation/
CATEGORIES:IDHS Capacity Building Training Topic
LOCATION:https://icoyouth-org.zoom.us/meeting/register/BAxAoUQVQ-KMLfe-PeXFRw
END:VEVENT
END:VCALENDAR