BEGIN:VCALENDAR
VERSION:2.0
PRODID:-//Illinois Collaboration On Youth - ECPv6.15.18//NONSGML v1.0//EN
CALSCALE:GREGORIAN
METHOD:PUBLISH
X-WR-CALNAME:Illinois Collaboration On Youth
X-ORIGINAL-URL:https://www.icoyouth.org
X-WR-CALDESC:Events for Illinois Collaboration On Youth
REFRESH-INTERVAL;VALUE=DURATION:PT1H
X-Robots-Tag:noindex
X-PUBLISHED-TTL:PT1H
BEGIN:VTIMEZONE
TZID:America/Chicago
BEGIN:DAYLIGHT
TZOFFSETFROM:-0600
TZOFFSETTO:-0500
TZNAME:CDT
DTSTART:20240310T080000
END:DAYLIGHT
BEGIN:STANDARD
TZOFFSETFROM:-0500
TZOFFSETTO:-0600
TZNAME:CST
DTSTART:20241103T070000
END:STANDARD
BEGIN:DAYLIGHT
TZOFFSETFROM:-0600
TZOFFSETTO:-0500
TZNAME:CDT
DTSTART:20250309T080000
END:DAYLIGHT
BEGIN:STANDARD
TZOFFSETFROM:-0500
TZOFFSETTO:-0600
TZNAME:CST
DTSTART:20251102T070000
END:STANDARD
BEGIN:DAYLIGHT
TZOFFSETFROM:-0600
TZOFFSETTO:-0500
TZNAME:CDT
DTSTART:20260308T080000
END:DAYLIGHT
BEGIN:STANDARD
TZOFFSETFROM:-0500
TZOFFSETTO:-0600
TZNAME:CST
DTSTART:20261101T070000
END:STANDARD
END:VTIMEZONE
BEGIN:VEVENT
DTSTART;TZID=America/Chicago:20250902T100000
DTEND;TZID=America/Chicago:20250902T130000
DTSTAMP:20260421T134212
CREATED:20250625T173111Z
LAST-MODIFIED:20250625T173605Z
UID:10002045-1756807200-1756818000@www.icoyouth.org
SUMMARY:Conflict Reconciliation
DESCRIPTION:This 3-hour training will aid its participants in developing tools to work through internal issues that create conflict. We will look at 4 Keys to developing an effective Conflict Reconciliation System. We will explore the importance of:-Internal Responsibility: Diminishing apathy and indifference and\nincreasing passion and concern.\n-Embrace Reality: How to minimize frustration by fully\nembracing reality.\n-Reframing Rhetoric: How the words and phrases you use can\nshift your perspective\n-Re-writing Your Narrative: How fact coupled with fiction can be\ndamaging \nTrainer: Sylvester Baugh
URL:https://www.icoyouth.org/event/conflict-reconciliation-2/
CATEGORIES:IDHS Capacity Building Training Topic
LOCATION:https://icoyouth-org.zoom.us/meeting/register/JunhLWSSTGO32HLcosKvLw
END:VEVENT
BEGIN:VEVENT
DTSTART;TZID=America/Chicago:20250903T093000
DTEND;TZID=America/Chicago:20250903T233000
DTSTAMP:20260421T134212
CREATED:20250625T173111Z
LAST-MODIFIED:20250625T173610Z
UID:10002046-1756891800-1756942200@www.icoyouth.org
SUMMARY:Understanding Identity\, Intersectionality\, and Cultural Awareness
DESCRIPTION:This training is designed to provide participants with a comprehensive understanding of identity\, intersectionality\, and cultural awareness. By exploring these concepts\, participants will gain valuable insights into the diverse experiences and perspectives of individuals and communities. This knowledge is essential for fostering an inclusive and respectful environment in with supporting program participants.\nTwo Continuing Education Units (CEUs) will be available for participants with social work and professional counseling licenses (LSW\, LCSW\, LPC\, LCPC). If you would like to request CEUs\, you may do so in the evaluation survey sent after completing this training. For more information on ICOY’s training attendance policy please see here: https://www.icoyouth.org/attendance-policy/ \nTrainer: Heshima Mance
URL:https://www.icoyouth.org/event/understanding-identity-intersectionality-and-cultural-awareness-2/
CATEGORIES:IDHS Capacity Building Training Topic
LOCATION:https://icoyouth-org.zoom.us/meeting/register/3GV-Ml7qSDyfF1wdzynR3w
END:VEVENT
BEGIN:VEVENT
DTSTART;TZID=America/Chicago:20250908T100000
DTEND;TZID=America/Chicago:20250908T133000
DTSTAMP:20260421T134212
CREATED:20250625T173111Z
LAST-MODIFIED:20250625T173624Z
UID:10002047-1757325600-1757338200@www.icoyouth.org
SUMMARY:Casey Life Skills
DESCRIPTION:Please join us for this Casey Life skills training\, developed by Casey Family Programs\, which teaches youth providers how to use life skills assessments with youth in homeless youth and transitioning youth programs. Casey assessments also have applications in a variety of other youth service programs including basic centers\, street outreach programs\, educational outreach programs and other positive youth development programs. Participants in this training will learn how to partner with young people to assess and develop appropriate case plans and how to use free life skills resources to point young people toward success.\nThree continuing education units (CEUs) will be available for participants with social work and professional counseling licenses (LSW\, LCSW\, LPC\, LCPC). If you would like to request CEUs\, you may do so in the evaluation survey sent after completing this training. For more information on ICOY’s training attendance policy please see here: https://www.icoyouth.org/attendance-policy/ \nTrainer(s): Sam Hall/ Cheris Larson
URL:https://www.icoyouth.org/event/casey-life-skills-13/
CATEGORIES:IDHS Capacity Building Training Topic
LOCATION:https://icoyouth-org.zoom.us/meeting/register/62FbIA5jRbuIlpdi1DRzuQ
END:VEVENT
BEGIN:VEVENT
DTSTART;TZID=America/Chicago:20250910T093000
DTEND;TZID=America/Chicago:20250910T130000
DTSTAMP:20260421T134212
CREATED:20250625T171605Z
LAST-MODIFIED:20250625T173637Z
UID:10002030-1757496600-1757509200@www.icoyouth.org
SUMMARY:CCBYS 101
DESCRIPTION:Join us for this webinar to learn what you need to know in order to effectively provide Comprehensive Community-Based Youth Services (CCBYS) and comply with program regulations.\nThis training is perfect for crisis workers and new supervisors. Through lectures\, case studies\, group exercises and role play\, participants will learn how to work with youth and their families; how to interact effectively with partners in the community including law enforcement officers\, school personnel and child welfare workers; and how to initiate effective case management for clients. \nThree Continuing Education Units (CEUs) will be available for participants with social work and professional counseling licenses (LSW\, LCSW\, LPC\, LCPC). If you would like to request CEUs\, you may do so in the evaluation survey sent after completing this training. For more information on ICOY’s training attendance policy please see here: https://www.icoyouth.org/attendance-policy/ \nTrainer: Tiana Cody
URL:https://www.icoyouth.org/event/ccbys-101-9/
CATEGORIES:Comprehensive Community Based Youth Services (CCBYS),IDHS Capacity Building Training Topic
LOCATION:https://icoyouth-org.zoom.us/meeting/register/tzOgbzyiR_OC8fE79bz6HQ
END:VEVENT
BEGIN:VEVENT
DTSTART;TZID=America/Chicago:20250917T090000
DTEND;TZID=America/Chicago:20250917T130000
DTSTAMP:20260421T134212
CREATED:20250625T171620Z
LAST-MODIFIED:20250625T173642Z
UID:10002031-1758099600-1758114000@www.icoyouth.org
SUMMARY:Motivational Interviewing
DESCRIPTION:This ICOY training provides an overview of motivational interviewing and its key elements for effective practice: Values\, Ambivalence\, Empathy\, the Spirit of MI\, O.A.R.S\, and Eliciting Change Talk. The main focus of motivational interviewing is to partner with the individual to enhance motivation and utilize ambivalence to build a successful plan for making change. Compared with other non-directive counseling\, this method is focused and guiding\, allowing for more partnership and collaboration.\nFour continuing education units (CEUs) will be available for participants with social work and professional counseling licenses (LSW\, LCSW\, LPC\, LCPC). If you would like to request CEUs\, you may do so in the evaluation survey sent after completing this training. For more information on ICOY’s training attendance policy please see here: https://www.icoyouth.org/attendance-policy/ \nTrainer: Lori Egizio
URL:https://www.icoyouth.org/event/motivational-interviewing-7/
CATEGORIES:IDHS Capacity Building Training Topic
LOCATION:https://icoyouth-org.zoom.us/meeting/register/Q2uIpyTSTwW2Xas4Cn7pkA
END:VEVENT
END:VCALENDAR