BEGIN:VCALENDAR
VERSION:2.0
PRODID:-//Illinois Collaboration On Youth - ECPv6.15.18//NONSGML v1.0//EN
CALSCALE:GREGORIAN
METHOD:PUBLISH
X-WR-CALNAME:Illinois Collaboration On Youth
X-ORIGINAL-URL:https://www.icoyouth.org
X-WR-CALDESC:Events for Illinois Collaboration On Youth
REFRESH-INTERVAL;VALUE=DURATION:PT1H
X-Robots-Tag:noindex
X-PUBLISHED-TTL:PT1H
BEGIN:VTIMEZONE
TZID:America/Chicago
BEGIN:DAYLIGHT
TZOFFSETFROM:-0600
TZOFFSETTO:-0500
TZNAME:CDT
DTSTART:20240310T080000
END:DAYLIGHT
BEGIN:STANDARD
TZOFFSETFROM:-0500
TZOFFSETTO:-0600
TZNAME:CST
DTSTART:20241103T070000
END:STANDARD
BEGIN:DAYLIGHT
TZOFFSETFROM:-0600
TZOFFSETTO:-0500
TZNAME:CDT
DTSTART:20250309T080000
END:DAYLIGHT
BEGIN:STANDARD
TZOFFSETFROM:-0500
TZOFFSETTO:-0600
TZNAME:CST
DTSTART:20251102T070000
END:STANDARD
BEGIN:DAYLIGHT
TZOFFSETFROM:-0600
TZOFFSETTO:-0500
TZNAME:CDT
DTSTART:20260308T080000
END:DAYLIGHT
BEGIN:STANDARD
TZOFFSETFROM:-0500
TZOFFSETTO:-0600
TZNAME:CST
DTSTART:20261101T070000
END:STANDARD
END:VTIMEZONE
BEGIN:VEVENT
DTSTART;TZID=America/Chicago:20251006T130000
DTEND;TZID=America/Chicago:20251006T150000
DTSTAMP:20260421T135006
CREATED:20250717T183746Z
LAST-MODIFIED:20250723T205522Z
UID:10002061-1759755600-1759762800@www.icoyouth.org
SUMMARY:Trauma Talks: Domestic Violence and Trauma
DESCRIPTION:Understanding Domestic Violence is beyond observing individual relationships. Understanding Domestic Violence requires a reflection of larger society and systems to truly address its impact. Additionally\, we will address the unique barriers for communities\, such as mothers\, youth\, elders\, immigrants\, individuals with disabilities as a few examples. Participants will grow shared language and tools to best support individuals navigating Domestic Violence. Finally\, participants are encouraged to bring their heart and hope to Break the Cycles of Domestic Violence during this training. Thank you for your time and consideration in joining! \n  \nPlease note\, this event/training is not affiliated with or in partnership with IDHS. Everyone is welcome to attend!  \nICOY currently offers Continuing Education Units (CEUs) for participants with active Social Work and Professional Counseling licenses (LSW\, LCSW\, LPC\, LCPC) only. All CEU requests must be made in the evaluation form. \nContent Warning: This topic will touch on sensitive topics related to trauma\,intimate partner violence\, domestic violence\, and cycles of abuse. Please be aware that some content may be distressing or triggering for individuals with personal and professional experiences of these and related traumas and challenges. While facilitators will include content warnings for prepared materials\, please be aware that there may be self or case related disclosures from participants. We encourage you to practice self-care and feel free to step away at any time. For any additional needs or resources please reach out to our team at trauma_initiatives@icoyouth.org \n  \nAbout the Facilitaor: \nMarlee Goodman (she/her) – Marlee Goodman has a strong foundation in direct service\, with experience in grief\, affinity spaces and identity\, community building\, and advocacy. Currently serving as a Training + Trauma Specialist\, and LGBTQ+ Liaison at ICOY\, she leads CARES\, ICOY’s for-hire Trauma-Informed Services\, and facilitates training and capacity-building to support service providers with gaining tools\, skills\, and knowledge about trauma-informed care. As an LGBTQ+ Liaison she ensures that ICOY is meeting the needs of organizations serving queer children\, youth\, families\, and service providers across the state. Marlee use trauma-informed principles\, restorative and reparative models\, and intersectionality to guide every aspect of her work. Her approach to content and facilitation is rooted in her commitment to supporting organizations in their journey to not only dismantle oppressive systems\, but to center communities in making healing accessible and sustainable.
URL:https://www.icoyouth.org/event/domestic-violence-and-trauma-2/
CATEGORIES:ICOY CARES Trauma Talks,ICOY Members
LOCATION:https://www.eventbrite.com/e/1485335992939?aff=oddtdtcreator
END:VEVENT
END:VCALENDAR